BEGIN:VCALENDAR
VERSION:2.0
PRODID:-//Oakdale Golf Club - Buffalo Lake, MN - ECPv6.15.20//NONSGML v1.0//EN
CALSCALE:GREGORIAN
METHOD:PUBLISH
X-WR-CALNAME:Oakdale Golf Club - Buffalo Lake, MN
X-ORIGINAL-URL:https://oakdalegolfclub.com
X-WR-CALDESC:Events for Oakdale Golf Club - Buffalo Lake, MN
REFRESH-INTERVAL;VALUE=DURATION:PT1H
X-Robots-Tag:noindex
X-PUBLISHED-TTL:PT1H
BEGIN:VTIMEZONE
TZID:UTC
BEGIN:STANDARD
TZOFFSETFROM:+0000
TZOFFSETTO:+0000
TZNAME:UTC
DTSTART:20230101T000000
END:STANDARD
END:VTIMEZONE
BEGIN:VEVENT
DTSTART;TZID=UTC:20240824T170000
DTEND;TZID=UTC:20240824T200000
DTSTAMP:20260421T143606
CREATED:20240314T225448Z
LAST-MODIFIED:20240314T225450Z
UID:3251-1724518800-1724529600@oakdalegolfclub.com
SUMMARY:Couple's Golf
DESCRIPTION:9-hole golf scramble followed by dinner in Chip Shots
URL:https://oakdalegolfclub.com/event/couples-golf-4/
END:VEVENT
BEGIN:VEVENT
DTSTART;TZID=UTC:20240822T163000
DTEND;TZID=UTC:20240822T180000
DTSTAMP:20260421T143606
CREATED:20240314T221350Z
LAST-MODIFIED:20240314T221436Z
UID:3249-1724344200-1724349600@oakdalegolfclub.com
SUMMARY:Lake Allie ESSD Meeting
DESCRIPTION:
URL:https://oakdalegolfclub.com/event/lake-allie-essd-meeting-2/
END:VEVENT
BEGIN:VEVENT
DTSTART;TZID=UTC:20240819T120000
DTEND;TZID=UTC:20240819T170000
DTSTAMP:20260421T143606
CREATED:20240729T184748Z
LAST-MODIFIED:20240729T184750Z
UID:3333-1724068800-1724086800@oakdalegolfclub.com
SUMMARY:Colby Smith Golf Fundraiser
DESCRIPTION:18-hole golf event
URL:https://oakdalegolfclub.com/event/colby-smith-golf-fundraiser/
END:VEVENT
BEGIN:VEVENT
DTSTART;TZID=UTC:20240818T080000
DTEND;TZID=UTC:20240818T120000
DTSTAMP:20260421T143606
CREATED:20240314T205222Z
LAST-MODIFIED:20240314T205226Z
UID:3248-1723968000-1723982400@oakdalegolfclub.com
SUMMARY:Breakfast & Bloody Mary Bar
DESCRIPTION:
URL:https://oakdalegolfclub.com/event/breakfast-bloody-mary-bar-6/
END:VEVENT
BEGIN:VEVENT
DTSTART;TZID=UTC:20240814T180000
DTEND;TZID=UTC:20240814T200000
DTSTAMP:20260421T143606
CREATED:20240314T205149Z
LAST-MODIFIED:20240701T152244Z
UID:3247-1723658400-1723665600@oakdalegolfclub.com
SUMMARY:Ladies Golf Scramble
DESCRIPTION:9-hole golf scramble followed by dinner in Chip Shots
URL:https://oakdalegolfclub.com/event/ladies-golf-scramble-3/
END:VEVENT
BEGIN:VEVENT
DTSTART;TZID=UTC:20240810T080000
DTEND;TZID=UTC:20240811T170000
DTSTAMP:20260421T143606
CREATED:20240314T205053Z
LAST-MODIFIED:20240314T205057Z
UID:3246-1723276800-1723395600@oakdalegolfclub.com
SUMMARY:Oakdale Men's Invitational
DESCRIPTION:
URL:https://oakdalegolfclub.com/event/oakdale-mens-invitational/
END:VEVENT
BEGIN:VEVENT
DTSTART;TZID=UTC:20240807T173000
DTEND;TZID=UTC:20240807T193000
DTSTAMP:20260421T143606
CREATED:20240314T205015Z
LAST-MODIFIED:20240701T152452Z
UID:3245-1723051800-1723059000@oakdalegolfclub.com
SUMMARY:Ladies Golf Lesson
DESCRIPTION:Group golf lesson. Advance registration required.
URL:https://oakdalegolfclub.com/event/ladies-golf-lesson-2/
END:VEVENT
BEGIN:VEVENT
DTSTART;TZID=UTC:20240804T080000
DTEND;TZID=UTC:20240804T120000
DTSTAMP:20260421T143606
CREATED:20240314T204928Z
LAST-MODIFIED:20240314T204929Z
UID:3244-1722758400-1722772800@oakdalegolfclub.com
SUMMARY:Gamer Fitness Charity Golf Event
DESCRIPTION:18-hole golf scramble. Tee times.
URL:https://oakdalegolfclub.com/event/gamer-fitness-charity-golf-event/
END:VEVENT
BEGIN:VEVENT
DTSTART;TZID=UTC:20240803T120000
DTEND;TZID=UTC:20240803T160000
DTSTAMP:20260421T143606
CREATED:20240514T164042Z
LAST-MODIFIED:20240514T164043Z
UID:3303-1722686400-1722700800@oakdalegolfclub.com
SUMMARY:BLHS Class of 2014 Reunion
DESCRIPTION:Private event in Chip Shots
URL:https://oakdalegolfclub.com/event/blhs-class-of-2014-reunion/
END:VEVENT
BEGIN:VEVENT
DTSTART;TZID=UTC:20240728T143000
DTEND;TZID=UTC:20240728T170000
DTSTAMP:20260421T143606
CREATED:20240314T204804Z
LAST-MODIFIED:20240314T204805Z
UID:3243-1722177000-1722186000@oakdalegolfclub.com
SUMMARY:Zion Lutheran Church Golf Event
DESCRIPTION:
URL:https://oakdalegolfclub.com/event/zion-lutheran-church-golf-event/
END:VEVENT
BEGIN:VEVENT
DTSTART;TZID=UTC:20240728T083000
DTEND;TZID=UTC:20240728T123000
DTSTAMP:20260421T143606
CREATED:20240314T204707Z
LAST-MODIFIED:20240314T204708Z
UID:3242-1722155400-1722169800@oakdalegolfclub.com
SUMMARY:Elfering Family Golf outing
DESCRIPTION:
URL:https://oakdalegolfclub.com/event/elfering-family-golf-outing/
END:VEVENT
BEGIN:VEVENT
DTSTART;TZID=UTC:20240727T170000
DTEND;TZID=UTC:20240727T200000
DTSTAMP:20260421T143606
CREATED:20240314T204618Z
LAST-MODIFIED:20240314T204619Z
UID:3241-1722099600-1722110400@oakdalegolfclub.com
SUMMARY:Couple's Golf
DESCRIPTION:9-hole golf scramble followed by dinner in Chip Shots
URL:https://oakdalegolfclub.com/event/couples-golf-3/
END:VEVENT
BEGIN:VEVENT
DTSTART;TZID=UTC:20240725T090000
DTEND;TZID=UTC:20240725T140000
DTSTAMP:20260421T143606
CREATED:20240314T204513Z
LAST-MODIFIED:20240314T204518Z
UID:3240-1721898000-1721916000@oakdalegolfclub.com
SUMMARY:TC&W Railroad Golf Event
DESCRIPTION:18-hole golf event
URL:https://oakdalegolfclub.com/event/tcw-railroad-golf-event/
END:VEVENT
BEGIN:VEVENT
DTSTART;TZID=UTC:20240722T130000
DTEND;TZID=UTC:20240722T180000
DTSTAMP:20260421T143606
CREATED:20240314T204419Z
LAST-MODIFIED:20240314T204420Z
UID:3239-1721653200-1721671200@oakdalegolfclub.com
SUMMARY:Hometown Golf Challenge
DESCRIPTION:18-hole golf event
URL:https://oakdalegolfclub.com/event/hometown-golf-challenge/
END:VEVENT
BEGIN:VEVENT
DTSTART;TZID=UTC:20240721T080000
DTEND;TZID=UTC:20240721T120000
DTSTAMP:20260421T143606
CREATED:20240314T203641Z
LAST-MODIFIED:20240314T203646Z
UID:3236-1721548800-1721563200@oakdalegolfclub.com
SUMMARY:Breakfast & Bloody Mary bar
DESCRIPTION:
URL:https://oakdalegolfclub.com/event/breakfast-bloody-mary-bar-5/
END:VEVENT
BEGIN:VEVENT
DTSTART;TZID=UTC:20240720T160000
DTEND;TZID=UTC:20240720T200000
DTSTAMP:20260421T143606
CREATED:20240314T203600Z
LAST-MODIFIED:20240314T203601Z
UID:3235-1721491200-1721505600@oakdalegolfclub.com
SUMMARY:Hector Class of '69 Reunion
DESCRIPTION:Private event in Chip Shots
URL:https://oakdalegolfclub.com/event/hector-class-of-69-reunion/
END:VEVENT
BEGIN:VEVENT
DTSTART;TZID=UTC:20240718T120000
DTEND;TZID=UTC:20240718T180000
DTSTAMP:20260421T143606
CREATED:20240314T203505Z
LAST-MODIFIED:20240314T203508Z
UID:3234-1721304000-1721325600@oakdalegolfclub.com
SUMMARY:Renville County Corn Growers Golf Event
DESCRIPTION:18-hole golf event followed by dinner in Chip Shots
URL:https://oakdalegolfclub.com/event/renville-county-corn-growers-golf-event/
END:VEVENT
BEGIN:VEVENT
DTSTART;TZID=UTC:20240715T120000
DTEND;TZID=UTC:20240715T170000
DTSTAMP:20260421T143606
CREATED:20240314T203405Z
LAST-MODIFIED:20240701T152823Z
UID:3233-1721044800-1721062800@oakdalegolfclub.com
SUMMARY:MWGCOA Golf Outing
DESCRIPTION:18-hole golf event
URL:https://oakdalegolfclub.com/event/mwgcoa-golf-outing/
END:VEVENT
BEGIN:VEVENT
DTSTART;TZID=UTC:20240713T170000
DTEND;TZID=UTC:20240713T220000
DTSTAMP:20260421T143606
CREATED:20240314T202920Z
LAST-MODIFIED:20240314T202921Z
UID:3232-1720890000-1720908000@oakdalegolfclub.com
SUMMARY:Hector Class of '74 Reunion
DESCRIPTION:Private event in Chip Shots
URL:https://oakdalegolfclub.com/event/hector-class-of-74-reunion/
END:VEVENT
BEGIN:VEVENT
DTSTART;TZID=UTC:20240712T120000
DTEND;TZID=UTC:20240712T200000
DTSTAMP:20260421T143606
CREATED:20240314T202825Z
LAST-MODIFIED:20240314T202826Z
UID:3231-1720785600-1720814400@oakdalegolfclub.com
SUMMARY:TOMF Charity Golf Event
DESCRIPTION:18-hole golf event followed by dinner and charity auction
URL:https://oakdalegolfclub.com/event/tomf-charity-golf-event/
END:VEVENT
BEGIN:VEVENT
DTSTART;TZID=UTC:20240710T180000
DTEND;TZID=UTC:20240710T200000
DTSTAMP:20260421T143606
CREATED:20240314T202730Z
LAST-MODIFIED:20240701T152056Z
UID:3230-1720634400-1720641600@oakdalegolfclub.com
SUMMARY:Ladies Golf Scramble
DESCRIPTION:9-hole golf scramble followed by dinner in Chip Shots
URL:https://oakdalegolfclub.com/event/ladies-golf-scramble-2/
END:VEVENT
BEGIN:VEVENT
DTSTART;TZID=UTC:20240708T130000
DTEND;TZID=UTC:20240708T180000
DTSTAMP:20260421T143606
CREATED:20240503T194808Z
LAST-MODIFIED:20240503T194808Z
UID:3293-1720443600-1720461600@oakdalegolfclub.com
SUMMARY:Summit Grain Golf Event
DESCRIPTION:18-hole private golf event
URL:https://oakdalegolfclub.com/event/summit-grain-golf-event/
END:VEVENT
BEGIN:VEVENT
DTSTART;TZID=UTC:20240703T173000
DTEND;TZID=UTC:20240703T193000
DTSTAMP:20260421T143606
CREATED:20240314T202624Z
LAST-MODIFIED:20240701T152416Z
UID:3229-1720027800-1720035000@oakdalegolfclub.com
SUMMARY:Ladies Golf Lesson
DESCRIPTION:Group golf lesson. Advance registration required.
URL:https://oakdalegolfclub.com/event/ladies-golf-lesson/
END:VEVENT
BEGIN:VEVENT
DTSTART;TZID=UTC:20240630T170000
DTEND;TZID=UTC:20240630T200000
DTSTAMP:20260421T143606
CREATED:20240314T202328Z
LAST-MODIFIED:20240314T202329Z
UID:3228-1719766800-1719777600@oakdalegolfclub.com
SUMMARY:Couple's Golf
DESCRIPTION:9-hole golf scramble followed by dinner in Chip Shots
URL:https://oakdalegolfclub.com/event/couples-golf-2/
END:VEVENT
BEGIN:VEVENT
DTSTART;TZID=UTC:20240629T170000
DTEND;TZID=UTC:20240629T220000
DTSTAMP:20260421T143606
CREATED:20240314T202217Z
LAST-MODIFIED:20240314T202218Z
UID:3227-1719680400-1719698400@oakdalegolfclub.com
SUMMARY:Buffalo Lake Class of '79 Reunion
DESCRIPTION:Private event in Chip Shots
URL:https://oakdalegolfclub.com/event/buffalo-lake-class-of-79-reunion/
END:VEVENT
BEGIN:VEVENT
DTSTART;TZID=UTC:20240628T173000
DTEND;TZID=UTC:20240628T193000
DTSTAMP:20260421T143606
CREATED:20240314T201808Z
LAST-MODIFIED:20240509T022706Z
UID:3226-1719595800-1719603000@oakdalegolfclub.com
SUMMARY:Junior Golf Fun Night
DESCRIPTION:
URL:https://oakdalegolfclub.com/event/junior-golf-fun-night/
END:VEVENT
BEGIN:VEVENT
DTSTART;TZID=UTC:20240624T090000
DTEND;TZID=UTC:20240628T103000
DTSTAMP:20260421T143606
CREATED:20240314T201716Z
LAST-MODIFIED:20240509T022947Z
UID:3225-1719219600-1719570600@oakdalegolfclub.com
SUMMARY:Junior Golf
DESCRIPTION:
URL:https://oakdalegolfclub.com/event/junior-golf/
END:VEVENT
BEGIN:VEVENT
DTSTART;TZID=UTC:20240617T130000
DTEND;TZID=UTC:20240617T170000
DTSTAMP:20260421T143606
CREATED:20240314T201538Z
LAST-MODIFIED:20240314T201540Z
UID:3224-1718629200-1718643600@oakdalegolfclub.com
SUMMARY:Kottke Trucking Golf Event
DESCRIPTION:18-hole golf event
URL:https://oakdalegolfclub.com/event/kottke-trucking-golf-event/
END:VEVENT
BEGIN:VEVENT
DTSTART;TZID=UTC:20240616T080000
DTEND;TZID=UTC:20240616T120000
DTSTAMP:20260421T143606
CREATED:20240314T201418Z
LAST-MODIFIED:20240314T201420Z
UID:3223-1718524800-1718539200@oakdalegolfclub.com
SUMMARY:Breakfast & Bloody Mary Bar
DESCRIPTION:
URL:https://oakdalegolfclub.com/event/breakfast-bloody-mary-bar-4/
END:VEVENT
BEGIN:VEVENT
DTSTART;TZID=UTC:20240615T170000
DTEND;TZID=UTC:20240615T200000
DTSTAMP:20260421T143606
CREATED:20240314T201332Z
LAST-MODIFIED:20240314T201333Z
UID:3222-1718470800-1718481600@oakdalegolfclub.com
SUMMARY:Morgan Mueller Graduation Party
DESCRIPTION:Private event in Chip Shots
URL:https://oakdalegolfclub.com/event/morgan-mueller-graduation-party/
END:VEVENT
END:VCALENDAR